BEGIN:VCALENDAR
PRODID:-//github.com/rianjs/ical.net//NONSGML ical.net 2.2//EN
VERSION:2.0
BEGIN:VEVENT
CLASS:PUBLIC
CREATED:20210223T220402
DESCRIPTION:12:00 AM - 12:00 AM
DTEND;VALUE=DATE:20210322
DTSTAMP:20210223T110402Z
DTSTART;VALUE=DATE:20210322
LOCATION:
SEQUENCE:0
SUMMARY:World Water Day
UID:7d258d01-c4c4-4668-915f-e01a426e0f15
END:VEVENT
END:VCALENDAR
