BEGIN:VCALENDAR
PRODID:-//github.com/rianjs/ical.net//NONSGML ical.net 2.2//EN
VERSION:2.0
BEGIN:VEVENT
CLASS:PUBLIC
CREATED:20210223T220402
DESCRIPTION:12:00 AM - 12:00 AM
DTEND;VALUE=DATE:20210415
DTSTAMP:20210223T110402Z
DTSTART;VALUE=DATE:20210412
LOCATION:Cork\, Ireland
SEQUENCE:0
SUMMARY:Aquaculture Europe 2020
UID:3a4afb1e-7d0b-41de-8143-eb54a9939c6b
END:VEVENT
END:VCALENDAR
